BEGIN:VCALENDAR
VERSION:2.0
BEGIN:VEVENT
DESCRIPTION;ENCODING=QUOTED-PRINTABLE:Half-yearly payment statistics 2026H1 =0D=0A
DTEND:20261210T080000Z
DTSTAMP:20251111T103028Z
DTSTART:20261210T080000Z
LOCATION:
SUMMARY:Payment statistics, half-yearly 2026H2
END:VEVENT
END:VCALENDAR
