BEGIN:VCALENDAR
VERSION:2.0
BEGIN:VEVENT
DESCRIPTION;ENCODING=QUOTED-PRINTABLE:
DTEND:20241110T220000Z
DTSTAMP:20240620T101054Z
DTSTART:20241109T220000Z
LOCATION:
SUMMARY:Meeting of Bank for International Settlements (BIS)
END:VEVENT
END:VCALENDAR
