BEGIN:VCALENDAR
VERSION:2.0
BEGIN:VEVENT
DESCRIPTION;ENCODING=QUOTED-PRINTABLE:
DTEND:20261217T150000Z
DTSTAMP:20260108T141938Z
DTSTART:20261216T220000Z
LOCATION:Frankfurt
SUMMARY:Governing Council of the ECB: monetary policy meeting
END:VEVENT
END:VCALENDAR
