BEGIN:VCALENDAR
VERSION:2.0
BEGIN:VEVENT
DESCRIPTION;ENCODING=QUOTED-PRINTABLE:=0D=0A Tiedotusvälineille =0D=0A Pääjohtaja Olli Rehn käy läpi euroalueen rahapolitiikan tilannetta. Toimistopäällikkö Hanna Freystätter esittelee maailmantalouden ja euroalueen näkymiä.=0D=0A perjantaina 15.3.2019 klo 11.00 Suomen Pankin auditoriossa (Rauhankatu 19).=0D=0A Tilaisuus pidetään Euro & talous 1/2019 -verkkojulkaisun ilmestymisen yhteydessä ja se on tarkoitettu tiedotusvälineiden edustajille. Osallistuminen edellyttää ennakkoilmoittautumista Suomen Pankin viestintään. Lehdistökortti tai vastaava sekä kuvallinen henkilöllisyystodistus on esitettävä pyydettäessä.=0D=0A Tiedon uusista Euro & talous -artikkeleista saa tilaamalla kerran kuukaudessa jaettavan uutiskirjeen osoitteessa www.eurojatalous.fi .=0D=0A Lehdistötilaisuutta voi seurata myös suorana  verkkolähetyksenä .=0D=0A Tervetuloa!=0D=0A
DTEND:20190315T090000Z
DTSTAMP:20190114T123917Z
DTSTART:20190315T090000Z
LOCATION:Suomen Pankin auditorio, Rauhankatu 19
SUMMARY:Suomen Pankin tiedotustilaisuus kansainvälisen talouden näkymistä ja rahapolitiikasta
END:VEVENT
END:VCALENDAR
