BEGIN:VCALENDAR
VERSION:2.0
BEGIN:VEVENT
DESCRIPTION;ENCODING=QUOTED-PRINTABLE:Suomen Pankissa toimii koronapandemian aikana kriisin makrotaloudellisia vaikutuksia ja niihin liittyvää talouspolitiikkaa analysoiva ryhmä. Analyysejä julkaistaan keskiviikkona 22.4.2020  Euro & talous -julkaisuna . Pääjohtaja Olli Rehn esittelee niiden päätulemat lehdistötilaisuudessa  keskiviikkona 22.4.2020 klo 12 . Pääjohtaja Rehn käy lisäksi läpi maailmantalouden näkymiä Kansainvälisen valuuttarahaston juuri päättyneen kevätkokouksen pohjalta sekä euroalueen viimeaikaisia rahapoliittisia toimia.=0D=0A Lehdistötilaisuus järjestetään verkkolähetyksenä ja sitä on mahdollista seurata tästä linkistä:  https://www.mediaserver.fi/live/bof  (Huom. Avaa linkki jollain muulla kuin Internet Explorer -selaimella).=0D=0A Median edustajat voivat esittää kysymyksiä verkkolähetyksessä chat-toiminnolla tai tekstiviestillä numeroon 050 352 7802 (ryhmäpäällikkö Satu Hietanen). Kysymyksen yhteydessä on oltava lähettäjän nimi ja tiedotusväline, jota lähettäjä edustaa.=0D=0A Television kuvausryhmiä lukuun ottamatta tilaisuuteen ei ole mahdollista saapua paikalle koronavirustilanteen vuoksi. TV-kuvaustarpeista pyydämme olemaan etukäteen yhteydessä viestintäasiantuntija Richard Branderiin,  richard.brander@bof.fi , puh. 09 183 2206.=0D=0A Huom.! Mikäli toivot saavasi materiaalia etukäteen embargolla, ole yhteyksissä Suomen Pankin viestintään ( info@bof.fi ). Pyrimme lähettämään embargo-materiaalin keskiviikkona aamupäivällä ennen lehdistötilaisuutta.  =0D=0A Julkaisemme lehdistötilaisuudesta kuvia median käyttöön  Suomen Pankin Flickr-tilillä .=0D=0A Lisätietoja: viestintäpäällikkö Jenni Hellström, puh. 09 183 2632=0D=0A
DTEND:20200422T100000Z
DTSTAMP:20200417T104746Z
DTSTART:20200422T090000Z
LOCATION:Verkkolähetys
SUMMARY:Suomen Pankin lehdistötilaisuus
END:VEVENT
END:VCALENDAR
