BEGIN:VCALENDAR
VERSION:2.0
BEGIN:VEVENT
DESCRIPTION;ENCODING=QUOTED-PRINTABLE:=0D=0A  =0D=0A
DTEND:20200317T110000Z
DTSTAMP:20200303T144018Z
DTSTART:20200317T100000Z
LOCATION:Eduskunta, Helsinki
SUMMARY:Suomen Pankki kuuntelee ja keskustelee: Pääjohtaja Olli Rehnin kuuleminen eduskunnan talousvaliokunnassa
END:VEVENT
END:VCALENDAR
