BEGIN:VCALENDAR
VERSION:2.0
BEGIN:VEVENT
DESCRIPTION;ENCODING=QUOTED-PRINTABLE:=0D=0A Euroopan keskuspankki käynnisti  strategiansa uudelleenarvioinnin  tammikuussa 2020. Tavoitteena on varmistaa, että rahapolitiikan strategia vastaa tarkoitustaan nyt ja tulevaisuudessa. =0D=0A Strategian uudelleenarvioinnissa rahapolitiikkaa tarkastellaan EKP:n hintavakaustehtävän rajoissa joka näkökulmasta, myös ilmastokysymykset huomioon ottaen. Arviointi perustuu tarkkaan, kokonaisvaltaiseen analyysiin, ja siihen lähdetään avoimin mielin.=0D=0A Osana uudelleenarviointia euromaiden keskuspankit järjestävät kuuntelutilaisuuksia, joissa haetaan kansalaisyhteiskunnan ja keskuspankkien muiden sidosryhmien näkemyksiä.=0D=0A Tapahtuma on ympäristö- ja ilmastotematiikkaan perehtyneille asiantuntijoille ja kansalaisjärjestöjen edustajille suunnattu kutsuvierastilaisuus. Webinaari toistetaan suorana verkossa ja taltioidaan.=0D=0A Lisätietoja: viestintäpäällikkö Jenni Hellström, jenni.hellstrom(at)bof.fi, puh. 09 183 2632=0D=0A Webinaarin suora lähetys 13.11.2020 klo 14.00 OHJELMA Suomen Pankki kuuntelee ja keskustelee: Webinaari rahapolitiikan strategian uudistamisesta ilmasto- ja ympäristövaikuttajille 13.11.2020 KLO 14.00–15.30 Tilaisuuden avaus Suomen Pankin viestintäpäällikkö Jenni Hellström                 =0D=0A Miksi EKP uudistaa strategiansa? Suomen Pankin pääjohtaja Olli Rehn=0D=0A Kommenttipuheenvuorot=0D=0A Konsultatiivisen työn johtaja, Tuuli Kaskinen, Demos Toimitusjohtaja Juho Romakkaniemi, Keskuskauppakamari Puheenjohtaja Laura Hildén, Nuorten agenda 2030 Kysymyksiä ja keskustelua =0D=0A
DTEND:20201113T133000Z
DTSTAMP:20200930T133756Z
DTSTART:20201113T120000Z
LOCATION:Webinaari
SUMMARY:Suomen Pankki kuuntelee ja keskustelee: Webinaari rahapolitiikan strategian uudistamisesta ilmasto- ja ympäristövaikuttajille
END:VEVENT
END:VCALENDAR
