BEGIN:VCALENDAR
VERSION:2.0
BEGIN:VEVENT
DESCRIPTION;ENCODING=QUOTED-PRINTABLE:=0D=0A Tiedotusvälineille =0D=0A Aikaansa seuraten – Suomen Pankin taidekokoelma Suomen Pankki järjestää perjantaina 9.6.2023 klo 12.00–13.30 Suomen Pankin taidekokoelmateoksen julkistustilaisuuden. ”Kokoelmateos on ensimmäinen laatuaan. Se vie lukijansa taidematkalle läpi vuosikymmenten ja tyylisuuntien Markku Valkosen johdattelemana. Kokoelmaan kuuluu maalauksia, grafiikkaa ja veistoksia. Teoksessa huomioidaan myös Suomen Pankin vaikuttava päärakennus, jonka 140-vuotisjuhlavuotta vietämme kuluvana vuonna. Renessanssiajasta muistuttava rakennus valmistui vuonna 1883.” =0D=0A Tilaisuus järjestetään Suomen Pankin päärakennuksessa, os. Snellmaninaukio, Helsinki.=0D=0A Ilmoittautuminen 5.6.2023 klo 15.00 mennessä tästä linkistä .=0D=0A Ohjelma =0D=0A Tilaisuuden avaus, pääjohtaja Olli Rehn Aikaansa seuraten – Suomen Pankin taidekokoelma  Teoksen esittely, taideasiantuntija ja kirjailija Markku Valkonen Lounas Suomen Pankin taidekokoelma, opastuskierros Tilaisuuden yhteyshenkilö on viestintäasiantuntija Julietta Huttu, puh. 09 183 2665 tai julietta.huttu@bof.fi =0D=0A
DTEND:20230609T103000Z
DTSTAMP:20230522T105001Z
DTSTART:20230609T090000Z
LOCATION:Suomen Pankin päärakennus
SUMMARY:Suomen Pankin taidekokoelmateoksen julkistustilaisuus
END:VEVENT
END:VCALENDAR
