BEGIN:VCALENDAR
VERSION:2.0
BEGIN:VEVENT
DESCRIPTION;ENCODING=QUOTED-PRINTABLE:
DTEND:20241110T220000Z
DTSTAMP:20240620T101025Z
DTSTART:20241109T220000Z
LOCATION:
SUMMARY:Kansainvälisen järjestelypankin (BIS) kokous
END:VEVENT
END:VCALENDAR
