BEGIN:VCALENDAR
VERSION:2.0
BEGIN:VEVENT
DESCRIPTION;ENCODING=QUOTED-PRINTABLE:
DTEND:20260430T140000Z
DTSTAMP:20260108T141422Z
DTSTART:20260429T210000Z
LOCATION:Frankfurt
SUMMARY:EKP:n neuvoston rahapolitiikkakokous
END:VEVENT
END:VCALENDAR
