BEGIN:VCALENDAR
VERSION:2.0
BEGIN:VEVENT
DESCRIPTION;ENCODING=QUOTED-PRINTABLE:
DTEND:20261029T150000Z
DTSTAMP:20260108T141422Z
DTSTART:20261028T220000Z
LOCATION:Frankfurt
SUMMARY:EKP:n neuvoston rahapolitiikkakokous
END:VEVENT
END:VCALENDAR
