BEGIN:VCALENDAR
VERSION:2.0
BEGIN:VEVENT
DESCRIPTION;ENCODING=QUOTED-PRINTABLE: =0D=0A =0D=0A EKP käynnisti strategiansa uudelleenarvioinnin tammikuussa 2020. Tavoitteena on varmistaa, että rahapolitiikan strategia vastaa tarkoitustaan nyt ja tulevaisuudessa.=0D=0A Strategian uudelleenarvioinnissa rahapolitiikkaa tarkastellaan EKP:n hintavakaustehtävän rajoissa joka näkökulmasta, myös ilmastokysymykset huomioon ottaen. Arviointi perustuu tarkkaan, kokonaisvaltaiseen analyysiin, ja siihen lähdetään avoimin mielin.=0D=0A Osana uudelleenarviointia euromaiden keskuspankit järjestävät kuuntelutilaisuuksia, joissa haetaan kansalaisyhteiskunnan ja keskuspankkien muiden sidosryhmien näkemyksiä.=0D=0A Tilaisuus on ympäristö- ja ilmastotematiikkaan perehtyneille tutkijoille ja kansalaisjärjestöjen asiantuntijoille suunnattu kutsuvierastilaisuus, josta laaditaan julkinen raportti.=0D=0A
DTEND:20200514T130000Z
DTSTAMP:20200303T144018Z
DTSTART:20200514T110000Z
LOCATION:Suomen Pankki, Helsinki
SUMMARY:PERUTTU: Suomen Pankki kuuntelee ja keskustelee: Seminaari rahapolitiikan strategian uudistamisesta ilmasto- ja ympäristövaikuttajille
END:VEVENT
END:VCALENDAR
