BEGIN:VCALENDAR
VERSION:2.0
BEGIN:VEVENT
DESCRIPTION;ENCODING=QUOTED-PRINTABLE:Luottolaitosten markkinaosuudet =0D=0A Tilastointiajanjakso joulukuu 2022=0D=0A
DTEND:20230413T070000Z
DTSTAMP:20221014T064035Z
DTSTART:20230413T070000Z
LOCATION:
SUMMARY:Luottolaitosten markkinaosuudet, 12/2022
END:VEVENT
END:VCALENDAR
