BEGIN:VCALENDAR
VERSION:2.0
BEGIN:VEVENT
DESCRIPTION;ENCODING=QUOTED-PRINTABLE:=0D=0A Asuntoyhteisöjen lainat:  Dashboardin päivitys 4/2026=0D=0A Yrityslainat:  Dashboardin päivitys 4/2026=0D=0A Tilastointiajanjakso huhtikuu 2026=0D=0A =0D=0A
DTEND:20260618T070000Z
DTSTAMP:20260121T065603Z
DTSTART:20260618T070000Z
LOCATION:
SUMMARY:Asuntoyhteisöjen lainat ja yrityslainat: Dashboardin päivitys 4/2026
END:VEVENT
END:VCALENDAR
