BEGIN:VCALENDAR
VERSION:2.0
BEGIN:VEVENT
DESCRIPTION;ENCODING=QUOTED-PRINTABLE:
DTEND:20260716T070000Z
DTSTAMP:20251205T061750Z
DTSTART:20260716T070000Z
LOCATION:
SUMMARY:Suomalaisten liikkeeseen laskemat noteeratut osakkeet: Dashboardin päivitys 6/2026
END:VEVENT
END:VCALENDAR
