BEGIN:VCALENDAR
VERSION:2.0
BEGIN:VEVENT
DESCRIPTION;ENCODING=QUOTED-PRINTABLE:Research Seminar - Roman Šustek (Queen Mary University of London) - TBA Roman Šustek (Queen Mary University of London) will present his research, and the paper will be announced later. =0D=0A Online Research seminars organized by the Bank of Finland's Research Unit are open to all researchers interested in the subjects covered. Those wishing to attend a seminar are kindly asked to register in advance, by filling in  the Online Registration Form . =0D=0A The registration for each seminar is open until 9:00 am the day of the seminar. You will receive a link to join the seminar by email at the latest one hour before the seminar is scheduled to begin. =0D=0A
DTEND:20260507T084500Z
DTSTAMP:20260204T041944Z
DTSTART:20260507T073000Z
LOCATION:MS Teams
SUMMARY:Roman Šustek (Queen Mary University of London) - TBA
END:VEVENT
END:VCALENDAR
