BEGIN:VCALENDAR
VERSION:2.0
BEGIN:VEVENT
DESCRIPTION;ENCODING=QUOTED-PRINTABLE:=0D=0A Europeiska centralbankens råd (ECB-rådet) håller ett sammanträde i Enare, Finland, onsdagen den 22 februari 2023. Sammanträdet äger rum i det samiska kulturcentret Sajos. På sammanträdet behandlas sådana andra än penningpolitiska ärenden som faller inom ramen för rådets mandat. För medierna ordnas en fotosession för vilken förhandsanmälan krävs. =0D=0A I sammanträdet deltar ECB-rådets medlemmar. Till rådet hör centralbankscheferna i de 20 euroländerna och ECB:s 6 direktionsmedlemmar.=0D=0A Närmare upplysningar lämnas av=0D=0A Finlands Banks kommunikation, media@bof.fi , tel. 09 183 2101.=0D=0A
DTEND:20230222T080500Z
DTSTAMP:20230210T130000Z
DTSTART:20230222T080000Z
LOCATION:Samiska kulturcentret Sajos
SUMMARY:Europeiska centralbankens råds möte i Finland
END:VEVENT
END:VCALENDAR
