BEGIN:VCALENDAR
VERSION:2.0
BEGIN:VEVENT
DESCRIPTION;ENCODING=QUOTED-PRINTABLE:
DTEND:20260910T140000Z
DTSTAMP:20260108T141909Z
DTSTART:20260909T210000Z
LOCATION:
SUMMARY:ECB-rådets möte (räntemöte)
END:VEVENT
END:VCALENDAR
